BEGIN:VCALENDAR
VERSION:2.0
PRODID:-//PLAN - ECPv6.15.19//NONSGML v1.0//EN
CALSCALE:GREGORIAN
METHOD:PUBLISH
X-WR-CALNAME:PLAN
X-ORIGINAL-URL:https://planfl.org
X-WR-CALDESC:Events for PLAN
REFRESH-INTERVAL;VALUE=DURATION:PT1H
X-Robots-Tag:noindex
X-PUBLISHED-TTL:PT1H
BEGIN:VTIMEZONE
TZID:America/Chicago
BEGIN:DAYLIGHT
TZOFFSETFROM:-0600
TZOFFSETTO:-0500
TZNAME:CDT
DTSTART:20250309T080000
END:DAYLIGHT
BEGIN:STANDARD
TZOFFSETFROM:-0500
TZOFFSETTO:-0600
TZNAME:CST
DTSTART:20251102T070000
END:STANDARD
BEGIN:DAYLIGHT
TZOFFSETFROM:-0600
TZOFFSETTO:-0500
TZNAME:CDT
DTSTART:20260308T080000
END:DAYLIGHT
BEGIN:STANDARD
TZOFFSETFROM:-0500
TZOFFSETTO:-0600
TZNAME:CST
DTSTART:20261101T070000
END:STANDARD
BEGIN:DAYLIGHT
TZOFFSETFROM:-0600
TZOFFSETTO:-0500
TZNAME:CDT
DTSTART:20270314T080000
END:DAYLIGHT
BEGIN:STANDARD
TZOFFSETFROM:-0500
TZOFFSETTO:-0600
TZNAME:CST
DTSTART:20271107T070000
END:STANDARD
END:VTIMEZONE
BEGIN:VEVENT
DTSTART;TZID=America/Chicago:20260401T100000
DTEND;TZID=America/Chicago:20260401T110000
DTSTAMP:20260425T220936
CREATED:20260121T221051Z
LAST-MODIFIED:20260121T221053Z
UID:10000385-1775037600-1775041200@planfl.org
SUMMARY:Artificial Intelligence Discussion Group
DESCRIPTION:Curious about artificial intelligence? Want to learn what others are trying\, or get answers to your own questions?  \n\n\n\nJoin us for our upcoming AI discussion group the first Wednesday of each month (except March and May\, when we’ll meet the second Wednesday)! \n\n\n\nEveryone is welcome\, whether you’re brand‑new to AI or already experimenting with tools. Come ready to share your experiences or simply listen and ask questions. It’s a relaxed\, peer‑to‑peer space to explore what’s possible.
URL:https://planfl.org/event/artificial-intelligence-discussion-group/2026-04-01/
END:VEVENT
BEGIN:VEVENT
DTSTART;TZID=America/Chicago:20260401T130000
DTEND;TZID=America/Chicago:20260401T140000
DTSTAMP:20260425T220936
CREATED:20260310T193857Z
LAST-MODIFIED:20260310T193859Z
UID:10000403-1775048400-1775052000@planfl.org
SUMMARY:Next Level Interviewing Skills
DESCRIPTION:This webinar is exclusive to PLAN member libraries. \n\n\n\nLooking to get promoted or to take that next step in your professional life? \n\n\n\nTake your interviewing skills to the next level in this interactive session designed to help you confidently showcase your gifts and talents as you take your career to the next level. \n\n\n\nAs a result of this program\, attendees will learn: \n\n\n\n\nSteps to take to prepare BEFORE the interview\,\n\n\n\nHow to engage DURING the interview from the moment they step onsite or online until their final exit\,\n\n\n\nRecovery strategies for those ‘not so perfect moments’ during the interview\, and\n\n\n\nHow to make a positive impression AFTER the interview.\n\n\n\n\nThis session will teach you how to not only showcase your gifts and your talents but also view the interview as an opportunity to determine if the employer is the right place for you to grow and to develop. \n\n\n\nAbout the presenter: Clenise Platt is a native of Virginia Beach\, Virginia. She is a gifted leader\, communicator\, strategic thinker\, and creative who partners with senior leaders\, executives\, and teams to develop\, plan\, and execute dynamic and innovative programs\, initiatives\, and presentations. Her areas of concentration include leadership and board development\, employee engagement\, talent development\, customer service\, and culture cultivation. Clenise has authored several books and articles focused on personal\, professional\, spiritual\, financial\, community\, youth\, and leadership development. She has been published in multiple publications including the Virginia Libraries Journal. She is the host of the Platinum Passport Podcast available on podcast platforms across the web and at www.theplattinumgroup.com
URL:https://planfl.org/event/next-level-interviewing-skills/
CATEGORIES:Professional Development
END:VEVENT
END:VCALENDAR