BEGIN:VCALENDAR
VERSION:2.0
PRODID:-//PLAN - ECPv6.15.19//NONSGML v1.0//EN
CALSCALE:GREGORIAN
METHOD:PUBLISH
X-WR-CALNAME:PLAN
X-ORIGINAL-URL:https://planfl.org
X-WR-CALDESC:Events for PLAN
REFRESH-INTERVAL;VALUE=DURATION:PT1H
X-Robots-Tag:noindex
X-PUBLISHED-TTL:PT1H
BEGIN:VTIMEZONE
TZID:America/Chicago
BEGIN:DAYLIGHT
TZOFFSETFROM:-0600
TZOFFSETTO:-0500
TZNAME:CDT
DTSTART:20250309T080000
END:DAYLIGHT
BEGIN:STANDARD
TZOFFSETFROM:-0500
TZOFFSETTO:-0600
TZNAME:CST
DTSTART:20251102T070000
END:STANDARD
BEGIN:DAYLIGHT
TZOFFSETFROM:-0600
TZOFFSETTO:-0500
TZNAME:CDT
DTSTART:20260308T080000
END:DAYLIGHT
BEGIN:STANDARD
TZOFFSETFROM:-0500
TZOFFSETTO:-0600
TZNAME:CST
DTSTART:20261101T070000
END:STANDARD
BEGIN:DAYLIGHT
TZOFFSETFROM:-0600
TZOFFSETTO:-0500
TZNAME:CDT
DTSTART:20270314T080000
END:DAYLIGHT
BEGIN:STANDARD
TZOFFSETFROM:-0500
TZOFFSETTO:-0600
TZNAME:CST
DTSTART:20271107T070000
END:STANDARD
END:VTIMEZONE
BEGIN:VEVENT
DTSTART;TZID=America/Chicago:20260416T100000
DTEND;TZID=America/Chicago:20260416T113000
DTSTAMP:20260425T220935
CREATED:20260323T140035Z
LAST-MODIFIED:20260402T182216Z
UID:10000415-1776333600-1776339000@planfl.org
SUMMARY:Interactive Tools for Teaching and Presenting - 2 parts
DESCRIPTION:Part 1: April 16 from 10 AM to 11:30 AM CTPart 2: April 23 from 10 AM to 11:30 AM CT \n\n\n\nHow do we truly engage our audience when presenting ideas\, welcoming new users\, or teaching? There are plenty of freely available tools which allow more interaction\, which can be used either instead of or alongside traditional presentation tools like PowerPoint. The great thing is they work equally well in online environments like Zoom or Teams\, or in person when presenting face-to-face. \n\n\n\nWe’ll explore a range of tools including Menti – a surprisingly versatile quizzing tool in which you can create slides and entire presentations; Google Slides – the Google equivalent to PowerPoint with one crucial interactive Q&A feature added; and Padlet – an interactive board that allows your audience to collaborate with you and each other. \n\n\n\nBy the end of the training participants will have learned about a variety of interactive tools\, tried them all out\, and be able to make an informed choice as to when to use them in their presentations\, lectures\, workshops\, or orientation sessions. \n\n\n\nAbout the presenter: Ned Potter is the Faculty Engagement Manager: Community & UX at the University of York\, and a Trainer for various organizations including the Bodleian Libraries and the British Library. He has run library workshops across four continents\, and his presentations have been viewed over 2.5 million times online. His book The Library Marketing Toolkit was published by Facet in 2012. Ned can be found online at ned-potter.com and on Bluesky at @nedpotter.bsky.social.
URL:https://planfl.org/event/interactive-tools-for-teaching-and-presenting-part-1/
CATEGORIES:Digital Resources
END:VEVENT
BEGIN:VEVENT
DTSTART;TZID=America/Chicago:20260416T130000
DTEND;TZID=America/Chicago:20260416T140000
DTSTAMP:20260425T220935
CREATED:20260317T152749Z
LAST-MODIFIED:20260317T152935Z
UID:10000414-1776344400-1776348000@planfl.org
SUMMARY:Domestic Violence: A Conversation with Dr. Carolyn West
DESCRIPTION:
URL:https://planfl.org/event/domestic-violence-a-conversation-with-dr-carolyn-west/
CATEGORIES:Homelessness Issues,Webinar
ATTACH;FMTTYPE=application/pdf:https://planfl.org/wp-content/uploads/20260416dowd-1.pdf
END:VEVENT
END:VCALENDAR