BEGIN:VCALENDAR
VERSION:2.0
PRODID:-//PLAN - ECPv6.15.19//NONSGML v1.0//EN
CALSCALE:GREGORIAN
METHOD:PUBLISH
X-WR-CALNAME:PLAN
X-ORIGINAL-URL:https://planfl.org
X-WR-CALDESC:Events for PLAN
REFRESH-INTERVAL;VALUE=DURATION:PT1H
X-Robots-Tag:noindex
X-PUBLISHED-TTL:PT1H
BEGIN:VTIMEZONE
TZID:America/Chicago
BEGIN:DAYLIGHT
TZOFFSETFROM:-0600
TZOFFSETTO:-0500
TZNAME:CDT
DTSTART:20250309T080000
END:DAYLIGHT
BEGIN:STANDARD
TZOFFSETFROM:-0500
TZOFFSETTO:-0600
TZNAME:CST
DTSTART:20251102T070000
END:STANDARD
BEGIN:DAYLIGHT
TZOFFSETFROM:-0600
TZOFFSETTO:-0500
TZNAME:CDT
DTSTART:20260308T080000
END:DAYLIGHT
BEGIN:STANDARD
TZOFFSETFROM:-0500
TZOFFSETTO:-0600
TZNAME:CST
DTSTART:20261101T070000
END:STANDARD
BEGIN:DAYLIGHT
TZOFFSETFROM:-0600
TZOFFSETTO:-0500
TZNAME:CDT
DTSTART:20270314T080000
END:DAYLIGHT
BEGIN:STANDARD
TZOFFSETFROM:-0500
TZOFFSETTO:-0600
TZNAME:CST
DTSTART:20271107T070000
END:STANDARD
END:VTIMEZONE
BEGIN:VEVENT
DTSTART;TZID=America/Chicago:20260505T140000
DTEND;TZID=America/Chicago:20260505T150000
DTSTAMP:20260425T221012
CREATED:20260324T133626Z
LAST-MODIFIED:20260324T133628Z
UID:10000419-1777989600-1777993200@planfl.org
SUMMARY:How To Get the Most Out of a Conference with Linda Bruno
DESCRIPTION:Whether you’re a first-timer or a seasoned conference-goer\, there are many ways to improve your conference experience.  \n\n\n\nWith the conferences often on the horizon\, now is the time to think about the ingredients that go into a successful conference experience. \n\n\n\nIn this 60-minute webinar\, we’ll look at 3 areas to think about- the before\, during\, and after of the conference. We’ll cover some basic things such as how to save money. We’ll also delve deeper and reflect on how you move through the world – are you an introvert or extrovert? What’s that got to do with your level of enjoyment and/or how much you will absorb? \n\n\n\nConferences can be fun\, exciting\, educational\, eye-opening – and tiring. Come to this webinar to make sure you experience the first 4 adjectives and only experience the last one because the first 4 were so abundant! \n\n\n\nAbout the presenter: Linda has been developing and conducting training workshops for libraries for more than fifteen years. Her favorite thing to do is to help people become their best selves! \n\n\n\nThat’s why she offers workshops on topics ranging from Leadership Skills to Emotional Intelligence – and lots of areas in between.
URL:https://planfl.org/event/how-to-get-the-most-out-of-a-conference-with-linda-bruno/
CATEGORIES:Professional Development
END:VEVENT
BEGIN:VEVENT
DTSTART;TZID=America/Chicago:20260506T113000
DTEND;TZID=America/Chicago:20260506T123000
DTSTAMP:20260425T221012
CREATED:20260310T210807Z
LAST-MODIFIED:20260310T211023Z
UID:10000408-1778067000-1778070600@planfl.org
SUMMARY:Weeding Popular Materials Collections
DESCRIPTION:This webinar is exclusive to PLAN member libraries. \n\n\n\nWhen it comes to books\, we all like to buy! However\, selecting materials is only half of the collection development process. Book hoarding does not create a useful collection. Weeding\, or deselecting materials\, must receive equal and continuous attention as selection to have a truly patron driven collection that serves its community. \n\n\n\nAs increasing demands tax libraries’ limited resources\, every item in a physical collection must justify its shelf space; while every item\, both physical and digital\, vies for patrons’ time and attention. We’ll discuss practical advice for weeding popular materials collections for youth or adults across formats. Along the way\, I’ll debunk some popular weeding excuses. \n\n\n\nUpon completion\, participants will be able to: \n\n\n\n\nArticulate to internal and external stakeholders that weeding is equally as important to collection development\n\n\n\nImplement logical\, rigorous weeding doctrines within their popular materials collections\n\n\n\nWeed to create space for new collections\, highlight materials\, and increase circulation with confidence\n\n\n\nPromote patron-driven collection policies and revitalize collections\n\n\n\n\nWho will benefit from this program: \n\n\n\n\nAll staff that interact with the collection and the public\n\n\n\nStaff who select for the collection\n\n\n\nStaff who maintain the collection\n\n\n\n\nAbout the presenter: Karen Toonen is the Collection Services Manager at Naperville Public Library\, the second-highest circulating public library in Illinois. Throughout her time as a Readers Advisory Assistant\, and Adult Services Librarian\, and in Technical Services\, Karen has remained focused on collections. She has presented extensively on weeding and other collection development aspects at the regional\, state\, and national level. Her service on the Adult Reading Round Table’s Steering Committee has not only allowed her to learn about weeding from colleagues across northern Illinois but also informed her philosophy that weeding and readers advisory go hand in hand.
URL:https://planfl.org/event/weeding-popular-materials-collections-2/
CATEGORIES:Collection Development
END:VEVENT
BEGIN:VEVENT
DTSTART;TZID=America/Chicago:20260506T130000
DTEND;TZID=America/Chicago:20260506T140000
DTSTAMP:20260425T221012
CREATED:20260310T211737Z
LAST-MODIFIED:20260310T211739Z
UID:10000409-1778072400-1778076000@planfl.org
SUMMARY:Get Smart About Emotional Intelligence: Enhance Your Effectiveness
DESCRIPTION:This webinar is exclusive to PLAN member libraries. \n\n\n\nEmotional intelligence (EI) is being able to perceive\, interpret\, and respond to your emotions and those of others. It is crucial for working collaboratively and effectively and having difficult conversations. \n\n\n\nPeople with more emotional intelligence tend to be more resilient\, better decision makers\, more effective leaders\, better communicators\, have more self-awareness and self-control\, and more success in life overall. \n\n\n\nThe good news is that EI can be learned and developed. Discover how to harness the power of emotions for more effective interactions! \n\n\n\nAs a result of this program attendees will: \n\n\n\n\nDefine emotional intelligence and describe its 4 domains\n\n\n\nExplain the benefits of emotional intelligence in the workplace\n\n\n\nDescribe 4 ways you can improve your EI\n\n\n\n\nAbout the presenter: Laura Greco spent more than 20 years in nursing before focusing on coaching and speaking to help professionals live vibrantly with joy and purpose. She believes that mindset and self-care of body\, mind\, and spirit\, are cornerstones for well-being and that we all have the capacity to make positive lifestyle changes. Her work highlights simple action steps and why they work. Laura has a BSN (University of Michigan)\, master’s in adult education (Penn State)\, trainings from HeartMath and the Mass General Benson-Henry Institute for Mind Body Medicine\, and certifications in wellness coaching from both Wellcoaches and Center for Credentialing and Education. Her books include Wellness Made Simple and Wellness Made Simple for Residents. You can find more information on her website www.YouBloomWellness.com.
URL:https://planfl.org/event/get-smart-about-emotional-intelligence-enhance-your-effectiveness/
CATEGORIES:Webinar
END:VEVENT
BEGIN:VEVENT
DTSTART;TZID=America/Chicago:20260513T100000
DTEND;TZID=America/Chicago:20260513T110000
DTSTAMP:20260425T221012
CREATED:20260121T221051Z
LAST-MODIFIED:20260121T221053Z
UID:10000386-1778666400-1778670000@planfl.org
SUMMARY:Artificial Intelligence Discussion Group
DESCRIPTION:Curious about artificial intelligence? Want to learn what others are trying\, or get answers to your own questions?  \n\n\n\nJoin us for our upcoming AI discussion group the first Wednesday of each month (except March and May\, when we’ll meet the second Wednesday)! \n\n\n\nEveryone is welcome\, whether you’re brand‑new to AI or already experimenting with tools. Come ready to share your experiences or simply listen and ask questions. It’s a relaxed\, peer‑to‑peer space to explore what’s possible.
URL:https://planfl.org/event/artificial-intelligence-discussion-group/2026-05-13/
END:VEVENT
BEGIN:VEVENT
DTSTART;TZID=America/Chicago:20260513T130000
DTEND;TZID=America/Chicago:20260513T140000
DTSTAMP:20260425T221012
CREATED:20260310T212539Z
LAST-MODIFIED:20260310T212541Z
UID:10000410-1778677200-1778680800@planfl.org
SUMMARY:You're Not a Social Worker\, But...
DESCRIPTION:This webinar is exclusive to PLAN member libraries. \n\n\n\nWhile library staff are not trained social workers\, they are often placed in situations that require empathy\, de-escalation\, and informed referrals due to the growing complex behavioral\, and social-emotional needs within their branch communities. \n\n\n\nThis webinar is designed to provide practical\, realistic tools that library professionals can use within their role and scope\, without expecting them to replace trained clinicians or social service providers. \n\n\n\nAttendees will learn how to: \n\n\n\n● Communicate with patrons using empathy while maintaining professional boundaries \n\n\n\n● Recognize and manage personal bias\, stress reactions\, and emotional triggers \n\n\n\n● Build and leverage relationships to connect patrons with appropriate community resources \n\n\n\nWho will benefit from this program: \n\n\n\nThis training is ideal for library staff\, customer service representatives\, frontline professionals\, supervisors\, and administrators who regularly interact with the public and encounter patrons experiencing mental/emotional distress\, crisis\, or other complex life challenges. \n\n\n\nAbout the presenter: Bryanta L. Spencer\, LISW-S\, is the Founder and CEO of Fortitude Wellness & Consultations and the Social Work Manager of the Cuyahoga County Public Library system. Holding certifications in trauma\, integrative medicine\, and mental health first aid she specializes in therapeutic services\, clinical supervision\, professional development and consulting for organizations\, schools\, and community-based systems. Bryanta is known for her out-of-the-box thinking\, charismatic engagement style\, and practical equity centered trauma-informed trainings that bridges real-world challenges with clarity and impact. Her work focuses on strengthening frontline professionals and helping institutions better service the underserved and unseen with dignity\, skill\, and compassion.
URL:https://planfl.org/event/youre-not-a-social-worker-but/
CATEGORIES:Challenging Patrons
END:VEVENT
BEGIN:VEVENT
DTSTART;TZID=America/Chicago:20260513T140000
DTEND;TZID=America/Chicago:20260513T150000
DTSTAMP:20260425T221012
CREATED:20260204T223425Z
LAST-MODIFIED:20260204T223503Z
UID:10000395-1778680800-1778684400@planfl.org
SUMMARY:The Power of Color in Library Marketing
DESCRIPTION:Can color really affect how people feel about your library? Research says yes. The colors you choose can shape emotion\, trust\, and engagement – and they play a big role in how your brand and promotions are perceived online. In this one-hour webinar\, you’ll get a practical\, library-focused introduction to color theory for marketing and social media. Learn which colors work best for different purposes\, how to use them strategically\, and how thoughtful color choices can make your online presence more engaging and effective. \n\n\n\nKey Takeaways: \n\n\n\n\nUnderstand the basics of color theory and how it applies to libraries\n\n\n\nLearn how different colors can influence emotions and perceptions;\n\n\n\nDiscover which color choices work best for branding\, marketing\, and social media.\n\n\n\n\nAbout the presenter: Laura Solomon\, CPACC\, MCIW\, MLS\, is the Library Services Manager at the Ohio Public Information Network and a W3C-certified front-end web developer. With nearly three decades of experience in web development and design\, Laura has honed her expertise in both public libraries and as an independent consultant\, specializing in Drupal development and in website accessibility. \n\n\n\nRecognized as a 2010 Library Journal Mover & Shaker\, she has authored books on social media and content marketing tailored for libraries\, as well as about library website design. She has dedicated many course hours to learning how to make websites accessible\, ensuring that digital spaces are inclusive for all users. \n\n\n\nLaura is a frequently-requested speaker for public library organizations\, sharing her passion for bringing the fun of technology to audiences and equipping libraries with the tools to better serve their virtual customers.
URL:https://planfl.org/event/the-power-of-color-in-library-marketing/
CATEGORIES:Marketing
END:VEVENT
BEGIN:VEVENT
DTSTART;TZID=America/Chicago:20260520T130000
DTEND;TZID=America/Chicago:20260520T140000
DTSTAMP:20260425T221012
CREATED:20260310T213317Z
LAST-MODIFIED:20260310T213319Z
UID:10000411-1779282000-1779285600@planfl.org
SUMMARY:Cataloging for Non-Catalogers
DESCRIPTION:This webinar is exclusive to PLAN member libraries. \n\n\n\nWherever you work in the library\, knowledge of some basic cataloging will enhance and improve your skills in library work. This will serve as a brief introduction to cataloging for non-catalogers and will help you to understand cataloging’s purpose\, its goals\, and some of its terminology\, especially the changes you may have been seeing with the implementation of RDA recently. \n\n\n\nJoin catalogers Christopher Hill\, McKenna Leckrone and Jessica C. Williams for an hour of focus on the catalog and bibliographic records. MARC may seem intimidating\, but there are rules and guidelines that help catalogers create bibliographic records that make it possible for you and patrons to find the exact material you are looking for. \n\n\n\nAs a result of this program\, attendees will learn: \n\n\n\n● The catalog from both staff and user view \n\n\n\n● Bibliographic records \n\n\n\n● The ins and outs of MARC \n\n\n\n● Authority records \n\n\n\nWho will benefit from this program: \n\n\n\n\nAll staff that interacts with patrons\n\n\n\nAll circulation staff members\n\n\n\nTechnical Services staff not directly cataloging\n\n\n\n\nAbout the presenters: \n\n\n\nChris Hill is a Cataloging Librarian II with Greene County Public Library and has held this position since December 2011. He has been cataloging library materials since 2003 and has been working in libraries since 1996. \n\n\n\nMcKenna Leckrone is the Head Cataloger at the Avon Lake Public Library near Cleveland\, Ohio. She has been working in libraries for almost 20 years and began her career as a public library page\, eventually working in circulation\, reference\, marketing\, technology and IT\, and now cataloging. \n\n\n\nJessica C. Williams has been a cataloger at Cleveland Public Library since 2023. Formerly Information Services Librarian at Tiffin-Seneca Public Library\, she transitioned to Technical Services Librarian-Cataloging at T-SPL in 2022. She started in libraries as a public library page in 2000. \n\n\n\nAll presenters are current leadership for the Ohio Library Council Technical Services Division Action Council.
URL:https://planfl.org/event/cataloging-for-non-catalogers/
CATEGORIES:Cataloging
END:VEVENT
BEGIN:VEVENT
DTSTART;TZID=America/Chicago:20260527T130000
DTEND;TZID=America/Chicago:20260527T140000
DTSTAMP:20260425T221012
CREATED:20260310T213933Z
LAST-MODIFIED:20260310T214150Z
UID:10000412-1779886800-1779890400@planfl.org
SUMMARY:Bots\, Books and Bedtime Stories: Spotting AI-Generated Books in Children's Collections
DESCRIPTION:This webinar is exclusive to PLAN member libraries. \n\n\n\nChildren’s librarians are on the front lines of a rapidly shifting landscape\, as generative AI enters children’s publishing and AI-generated books increasingly appear on Amazon\, self-publishing platforms\, and from library vendors. These titles can be difficult to identify\, often mimicking traditional authorship\, illustration styles\, and series branding while lacking transparency about their creation. This trend raises concerns about the veracity of library collections. \n\n\n\nThis webinar will equip librarians and selectors with practical tools to critically evaluate children’s books for signs of AI generation. Participants will explore real-world examples\, discuss ethical and collection development implications\, and learn strategies for making informed\, defensible decisions that support quality\, authenticity\, and trust in children’s literature collections. \n\n\n\nAs a result of this program\, attendees will learn how to: \n\n\n\n● Identify four common indicators of AI-generated children’s books in print and digital collections. \n\n\n\n● Distinguish between acceptable AI-assisted creation and fully AI-generated content when reviewing titles for purchase or retention. \n\n\n\n● Make informed\, defensible collection decisions using professional standards. \n\n\n\nWho will benefit from this program: \n\n\n\n\nChildren’s and Youth Services Librarians\n\n\n\nCollection Development Librarians\n\n\n\nSchool Librarians and Media Specialists\n\n\n\nLibrary Administrators developing AI policy\n\n\n\n\nAbout the presenter: Kira Smith has been a Virtual Reference Specialist with Florida’s Ask A Librarian service for over 16 years and is a recipient of multiple Exemplary Reference Awards. In addition to her work in virtual reference\, Kira freelances as a research consultant for journalists\, providing fact-finding\, source verification\, and background research. She also regularly designs and presents professional development webinars for librarians\, focusing on online reference\, information literacy\, and emerging issues affecting library practice. Kira’s professional background includes experience as an elementary school teacher and a certified childbirth educator. She is particularly interested in how new technologies — including generative AI — affect information quality\, trust\, and decision-making in library collections.
URL:https://planfl.org/event/bots-books-and-bedtime-stories-spotting-ai-generated-books-in-childrens-collections/
CATEGORIES:Collection Development
END:VEVENT
END:VCALENDAR