BEGIN:VCALENDAR
VERSION:2.0
PRODID:-//PLAN - ECPv6.15.19//NONSGML v1.0//EN
CALSCALE:GREGORIAN
METHOD:PUBLISH
X-WR-CALNAME:PLAN
X-ORIGINAL-URL:https://planfl.org
X-WR-CALDESC:Events for PLAN
REFRESH-INTERVAL;VALUE=DURATION:PT1H
X-Robots-Tag:noindex
X-PUBLISHED-TTL:PT1H
BEGIN:VTIMEZONE
TZID:America/Chicago
BEGIN:DAYLIGHT
TZOFFSETFROM:-0600
TZOFFSETTO:-0500
TZNAME:CDT
DTSTART:20250309T080000
END:DAYLIGHT
BEGIN:STANDARD
TZOFFSETFROM:-0500
TZOFFSETTO:-0600
TZNAME:CST
DTSTART:20251102T070000
END:STANDARD
BEGIN:DAYLIGHT
TZOFFSETFROM:-0600
TZOFFSETTO:-0500
TZNAME:CDT
DTSTART:20260308T080000
END:DAYLIGHT
BEGIN:STANDARD
TZOFFSETFROM:-0500
TZOFFSETTO:-0600
TZNAME:CST
DTSTART:20261101T070000
END:STANDARD
BEGIN:DAYLIGHT
TZOFFSETFROM:-0600
TZOFFSETTO:-0500
TZNAME:CDT
DTSTART:20270314T080000
END:DAYLIGHT
BEGIN:STANDARD
TZOFFSETFROM:-0500
TZOFFSETTO:-0600
TZNAME:CST
DTSTART:20271107T070000
END:STANDARD
END:VTIMEZONE
BEGIN:VEVENT
DTSTART;TZID=America/Chicago:20260513T100000
DTEND;TZID=America/Chicago:20260513T110000
DTSTAMP:20260425T165831
CREATED:20260121T221051Z
LAST-MODIFIED:20260121T221053Z
UID:10000386-1778666400-1778670000@planfl.org
SUMMARY:Artificial Intelligence Discussion Group
DESCRIPTION:Curious about artificial intelligence? Want to learn what others are trying\, or get answers to your own questions?  \n\n\n\nJoin us for our upcoming AI discussion group the first Wednesday of each month (except March and May\, when we’ll meet the second Wednesday)! \n\n\n\nEveryone is welcome\, whether you’re brand‑new to AI or already experimenting with tools. Come ready to share your experiences or simply listen and ask questions. It’s a relaxed\, peer‑to‑peer space to explore what’s possible.
URL:https://planfl.org/event/artificial-intelligence-discussion-group/2026-05-13/
END:VEVENT
BEGIN:VEVENT
DTSTART;TZID=America/Chicago:20260603T100000
DTEND;TZID=America/Chicago:20260603T110000
DTSTAMP:20260425T165831
CREATED:20260121T221051Z
LAST-MODIFIED:20260121T221053Z
UID:10000387-1780480800-1780484400@planfl.org
SUMMARY:Artificial Intelligence Discussion Group
DESCRIPTION:Curious about artificial intelligence? Want to learn what others are trying\, or get answers to your own questions?  \n\n\n\nJoin us for our upcoming AI discussion group the first Wednesday of each month (except March and May\, when we’ll meet the second Wednesday)! \n\n\n\nEveryone is welcome\, whether you’re brand‑new to AI or already experimenting with tools. Come ready to share your experiences or simply listen and ask questions. It’s a relaxed\, peer‑to‑peer space to explore what’s possible.
URL:https://planfl.org/event/artificial-intelligence-discussion-group/2026-06-03/
END:VEVENT
BEGIN:VEVENT
DTSTART;TZID=America/Chicago:20260701T100000
DTEND;TZID=America/Chicago:20260701T110000
DTSTAMP:20260425T165831
CREATED:20260121T221051Z
LAST-MODIFIED:20260121T221053Z
UID:10000388-1782900000-1782903600@planfl.org
SUMMARY:Artificial Intelligence Discussion Group
DESCRIPTION:Curious about artificial intelligence? Want to learn what others are trying\, or get answers to your own questions?  \n\n\n\nJoin us for our upcoming AI discussion group the first Wednesday of each month (except March and May\, when we’ll meet the second Wednesday)! \n\n\n\nEveryone is welcome\, whether you’re brand‑new to AI or already experimenting with tools. Come ready to share your experiences or simply listen and ask questions. It’s a relaxed\, peer‑to‑peer space to explore what’s possible.
URL:https://planfl.org/event/artificial-intelligence-discussion-group/2026-07-01/
END:VEVENT
BEGIN:VEVENT
DTSTART;TZID=America/Chicago:20260805T100000
DTEND;TZID=America/Chicago:20260805T110000
DTSTAMP:20260425T165831
CREATED:20260121T221051Z
LAST-MODIFIED:20260121T221053Z
UID:10000389-1785924000-1785927600@planfl.org
SUMMARY:Artificial Intelligence Discussion Group
DESCRIPTION:Curious about artificial intelligence? Want to learn what others are trying\, or get answers to your own questions?  \n\n\n\nJoin us for our upcoming AI discussion group the first Wednesday of each month (except March and May\, when we’ll meet the second Wednesday)! \n\n\n\nEveryone is welcome\, whether you’re brand‑new to AI or already experimenting with tools. Come ready to share your experiences or simply listen and ask questions. It’s a relaxed\, peer‑to‑peer space to explore what’s possible.
URL:https://planfl.org/event/artificial-intelligence-discussion-group/2026-08-05/
END:VEVENT
BEGIN:VEVENT
DTSTART;TZID=America/Chicago:20260902T100000
DTEND;TZID=America/Chicago:20260902T110000
DTSTAMP:20260425T165831
CREATED:20260121T221051Z
LAST-MODIFIED:20260121T221053Z
UID:10000390-1788343200-1788346800@planfl.org
SUMMARY:Artificial Intelligence Discussion Group
DESCRIPTION:Curious about artificial intelligence? Want to learn what others are trying\, or get answers to your own questions?  \n\n\n\nJoin us for our upcoming AI discussion group the first Wednesday of each month (except March and May\, when we’ll meet the second Wednesday)! \n\n\n\nEveryone is welcome\, whether you’re brand‑new to AI or already experimenting with tools. Come ready to share your experiences or simply listen and ask questions. It’s a relaxed\, peer‑to‑peer space to explore what’s possible.
URL:https://planfl.org/event/artificial-intelligence-discussion-group/2026-09-02/
END:VEVENT
BEGIN:VEVENT
DTSTART;TZID=America/Chicago:20261007T100000
DTEND;TZID=America/Chicago:20261007T110000
DTSTAMP:20260425T165831
CREATED:20260121T221051Z
LAST-MODIFIED:20260121T221053Z
UID:10000391-1791367200-1791370800@planfl.org
SUMMARY:Artificial Intelligence Discussion Group
DESCRIPTION:Curious about artificial intelligence? Want to learn what others are trying\, or get answers to your own questions?  \n\n\n\nJoin us for our upcoming AI discussion group the first Wednesday of each month (except March and May\, when we’ll meet the second Wednesday)! \n\n\n\nEveryone is welcome\, whether you’re brand‑new to AI or already experimenting with tools. Come ready to share your experiences or simply listen and ask questions. It’s a relaxed\, peer‑to‑peer space to explore what’s possible.
URL:https://planfl.org/event/artificial-intelligence-discussion-group/2026-10-07/
END:VEVENT
BEGIN:VEVENT
DTSTART;TZID=America/Chicago:20261104T100000
DTEND;TZID=America/Chicago:20261104T110000
DTSTAMP:20260425T165831
CREATED:20260121T221051Z
LAST-MODIFIED:20260121T221053Z
UID:10000392-1793786400-1793790000@planfl.org
SUMMARY:Artificial Intelligence Discussion Group
DESCRIPTION:Curious about artificial intelligence? Want to learn what others are trying\, or get answers to your own questions?  \n\n\n\nJoin us for our upcoming AI discussion group the first Wednesday of each month (except March and May\, when we’ll meet the second Wednesday)! \n\n\n\nEveryone is welcome\, whether you’re brand‑new to AI or already experimenting with tools. Come ready to share your experiences or simply listen and ask questions. It’s a relaxed\, peer‑to‑peer space to explore what’s possible.
URL:https://planfl.org/event/artificial-intelligence-discussion-group/2026-11-04/
END:VEVENT
BEGIN:VEVENT
DTSTART;TZID=America/Chicago:20261202T100000
DTEND;TZID=America/Chicago:20261202T110000
DTSTAMP:20260425T165831
CREATED:20260121T221051Z
LAST-MODIFIED:20260121T221053Z
UID:10000393-1796205600-1796209200@planfl.org
SUMMARY:Artificial Intelligence Discussion Group
DESCRIPTION:Curious about artificial intelligence? Want to learn what others are trying\, or get answers to your own questions?  \n\n\n\nJoin us for our upcoming AI discussion group the first Wednesday of each month (except March and May\, when we’ll meet the second Wednesday)! \n\n\n\nEveryone is welcome\, whether you’re brand‑new to AI or already experimenting with tools. Come ready to share your experiences or simply listen and ask questions. It’s a relaxed\, peer‑to‑peer space to explore what’s possible.
URL:https://planfl.org/event/artificial-intelligence-discussion-group/2026-12-02/
END:VEVENT
END:VCALENDAR